BEGIN:VCALENDAR
VERSION:2.0
PRODID:-//eventon.com NONSGML v1.0//EN
CALSCALE:GREGORIAN
METHOD:PUBLISH
BEGIN:VEVENT
UID:69ed0e6d22d4d
DTSTAMP:20260425T185645Z
DTSTART:20230923T083000Z
DTEND:20230923T225000Z
LOCATION:Hemmoor Cuxhavener Str. 1\,  27145 Hemmoor
SUMMARY:Tieftauch Specialty
DESCRIPTION:\nhttps://tauchschule.unidiving.de/kurs/tieftauch-specialty-2/
URL:https://tauchschule.unidiving.de/kurs/tieftauch-specialty-2/
END:VEVENT
END:VCALENDAR