BEGIN:VCALENDAR
VERSION:2.0
PRODID:-//eventon.com NONSGML v1.0//EN
CALSCALE:GREGORIAN
METHOD:PUBLISH
BEGIN:VEVENT
UID:69e739690ebb1
DTSTAMP:20260421T084633Z
DTSTART:20230805T040000Z
DTEND:20230805T105000Z
LOCATION:UNIdiving Hochschulring 1a
SUMMARY:OWD Open Water Diver
DESCRIPTION:\nhttps://tauchschule.unidiving.de/kurs/owd-open-water-diver/
URL:https://tauchschule.unidiving.de/kurs/owd-open-water-diver/
END:VEVENT
END:VCALENDAR