BEGIN:VCALENDAR
VERSION:2.0
PRODID:-//eventon.com NONSGML v1.0//EN
CALSCALE:GREGORIAN
METHOD:PUBLISH
BEGIN:VEVENT
UID:69e7399d1c300
DTSTAMP:20260421T084725Z
DTSTART:20231007T040000Z
DTEND:20231007T105000Z
LOCATION:UNIdiving Hochschulring 1a
SUMMARY:OWD Open Water Diver
DESCRIPTION:\nhttps://tauchschule.unidiving.de/kurs/owd-open-water-diver-2/
URL:https://tauchschule.unidiving.de/kurs/owd-open-water-diver-2/
END:VEVENT
END:VCALENDAR