BEGIN:VCALENDAR
VERSION:2.0
PRODID:-//eventon.com NONSGML v1.0//EN
CALSCALE:GREGORIAN
METHOD:PUBLISH
BEGIN:VEVENT
UID:69e9100a532b6
DTSTAMP:20260422T181434Z
DTSTART:20260523T060000Z
DTEND:20260523T215900Z
LOCATION:UNIdiving Hochschulring 1a
SUMMARY:OWD Open Water Diver
DESCRIPTION:\nhttps://tauchschule.unidiving.de/kurs/owd-open-water-diver-22
 /
URL:https://tauchschule.unidiving.de/kurs/owd-open-water-diver-22/
END:VEVENT
END:VCALENDAR