BEGIN:VCALENDAR
VERSION:2.0
PRODID:-//eventon.com NONSGML v1.0//EN
CALSCALE:GREGORIAN
METHOD:PUBLISH
BEGIN:VEVENT
UID:69e9107e0273f
DTSTAMP:20260422T181630Z
DTSTART:20260605T060000Z
DTEND:20260605T215900Z
LOCATION:UNIdiving Hochschulring 1a
SUMMARY:OWD Open Water Diver
DESCRIPTION:\nhttps://tauchschule.unidiving.de/kurs/owd-open-water-diver-23
 /
URL:https://tauchschule.unidiving.de/kurs/owd-open-water-diver-23/
END:VEVENT
END:VCALENDAR